BEGIN:VCALENDAR
VERSION:2.0
PRODID:-//The Literacy Center - ECPv6.15.20//NONSGML v1.0//EN
CALSCALE:GREGORIAN
METHOD:PUBLISH
X-ORIGINAL-URL:https://theliteracycenter-lv.org
X-WR-CALDESC:Events for The Literacy Center
REFRESH-INTERVAL;VALUE=DURATION:PT1H
X-Robots-Tag:noindex
X-PUBLISHED-TTL:PT1H
BEGIN:VTIMEZONE
TZID:America/New_York
BEGIN:DAYLIGHT
TZOFFSETFROM:-0500
TZOFFSETTO:-0400
TZNAME:EDT
DTSTART:20220313T070000
END:DAYLIGHT
BEGIN:STANDARD
TZOFFSETFROM:-0400
TZOFFSETTO:-0500
TZNAME:EST
DTSTART:20221106T060000
END:STANDARD
BEGIN:DAYLIGHT
TZOFFSETFROM:-0500
TZOFFSETTO:-0400
TZNAME:EDT
DTSTART:20230312T070000
END:DAYLIGHT
BEGIN:STANDARD
TZOFFSETFROM:-0400
TZOFFSETTO:-0500
TZNAME:EST
DTSTART:20231105T060000
END:STANDARD
BEGIN:DAYLIGHT
TZOFFSETFROM:-0500
TZOFFSETTO:-0400
TZNAME:EDT
DTSTART:20240310T070000
END:DAYLIGHT
BEGIN:STANDARD
TZOFFSETFROM:-0400
TZOFFSETTO:-0500
TZNAME:EST
DTSTART:20241103T060000
END:STANDARD
END:VTIMEZONE
BEGIN:VEVENT
DTSTART;TZID=America/New_York:20230201T123000
DTEND;TZID=America/New_York:20230201T163000
DTSTAMP:20260423T122915
CREATED:20230106T204559Z
LAST-MODIFIED:20230124T203146Z
UID:7590-1675254600-1675269000@theliteracycenter-lv.org
SUMMARY:Hiring Event: Allied Personnel Services
DESCRIPTION:Walk in anytime between 12:30pm and 3:30pm for a personalized conversation Allied Personnel Services Hiring Staff. You do not need to register before the event. \nOur office is located at 1132 Hamilton Street\, Allentown 3rd Floor. \n  \nAllied Personnel will work to match you with a position that fits your needs\, interests and background. They also assist with help you through the interview process and updating your resume. \nBring your resume! \n  \nDo you need help preparing for the hiring event or updating your resume? Contact Career Counselor\, Erin Anderson at 610-435-0680 Ext 810 or eanderson@theliteracycenter-lv.org.
URL:https://theliteracycenter-lv.org/event/hiring-event-allied-personnel-services/
LOCATION:The Literacy Center\, 1132 Hamilton Street\, Allentown\, PA\, 18101\, United States
CATEGORIES:Workforce Development
ORGANIZER;CN="The Literacy Center":MAILTO:tanthony@theliteracycenter-lv.org
END:VEVENT
BEGIN:VEVENT
DTSTART;TZID=America/New_York:20230307T123000
DTEND;TZID=America/New_York:20230307T153000
DTSTAMP:20260423T122915
CREATED:20230301T182925Z
LAST-MODIFIED:20230301T182925Z
UID:7809-1678192200-1678203000@theliteracycenter-lv.org
SUMMARY:LVHN Hiring Event
DESCRIPTION:Join us for a hiring event with Lehigh Valley Health Network! Hiring for nursing support roles. \nWalk in anytime between 12:30pm-3:30pm at The Literacy Center located at 1132 Hamilton St\, Third Floor\, Allentown. \n 
URL:https://theliteracycenter-lv.org/event/lvhn-hiring-event/
LOCATION:The Literacy Center\, 1132 Hamilton Street\, Allentown\, PA\, 18101\, United States
ORGANIZER;CN="The Literacy Center":MAILTO:tanthony@theliteracycenter-lv.org
END:VEVENT
BEGIN:VEVENT
DTSTART;TZID=America/New_York:20230307T163000
DTEND;TZID=America/New_York:20230307T183000
DTSTAMP:20260423T122915
CREATED:20230203T165101Z
LAST-MODIFIED:20230228T143656Z
UID:7703-1678206600-1678213800@theliteracycenter-lv.org
SUMMARY:PPL Hiring Event
DESCRIPTION:Join us for a hiring event with PPL! \n  \nAdministrative Positions available \n  \nWalk in anytime between 12:30pm and 3:30pm.
URL:https://theliteracycenter-lv.org/event/ppl-hiring-event/
LOCATION:The Literacy Center\, 1132 Hamilton Street\, Allentown\, PA\, 18101\, United States
CATEGORIES:Workforce Development
ORGANIZER;CN="The Literacy Center":MAILTO:tanthony@theliteracycenter-lv.org
END:VEVENT
BEGIN:VEVENT
DTSTART;TZID=America/New_York:20230307T170000
DTEND;TZID=America/New_York:20230307T180000
DTSTAMP:20260423T122915
CREATED:20230124T204232Z
LAST-MODIFIED:20230228T143556Z
UID:7651-1678208400-1678212000@theliteracycenter-lv.org
SUMMARY:Immigration Q&A with Lehigh Immigration
DESCRIPTION:Join us for a conversation about immigration and get your immigration questions answered with Attorney Michael Renneisen from Lehigh Immigration Law. The Q&A is in-person at The Literacy Center located at 1132 Hamilton St\, Allentown 18101 3rd Floor.
URL:https://theliteracycenter-lv.org/event/immigration-qa-with-lehigh-immigration/
LOCATION:The Literacy Center\, 1132 Hamilton Street\, Allentown\, PA\, 18101\, United States
ORGANIZER;CN="The Literacy Center":MAILTO:tanthony@theliteracycenter-lv.org
END:VEVENT
BEGIN:VEVENT
DTSTART;TZID=America/New_York:20230321T100000
DTEND;TZID=America/New_York:20230321T110000
DTSTAMP:20260423T122915
CREATED:20230301T180947Z
LAST-MODIFIED:20230301T181536Z
UID:7798-1679392800-1679396400@theliteracycenter-lv.org
SUMMARY:Admin Information Session 1
DESCRIPTION:Join us to learn more about the Free 9 week Administrative Professional Training Program! \nInfo Session is In-Person at The Literacy Center located at 1132 Hamilton St\, Third Floor\, Allentown
URL:https://theliteracycenter-lv.org/event/admin-information-session-1/
LOCATION:The Literacy Center\, 1132 Hamilton Street\, Allentown\, PA\, 18101\, United States
CATEGORIES:Workforce Development
ORGANIZER;CN="The Literacy Center":MAILTO:tanthony@theliteracycenter-lv.org
END:VEVENT
BEGIN:VEVENT
DTSTART;TZID=America/New_York:20230321T163000
DTEND;TZID=America/New_York:20230321T173000
DTSTAMP:20260423T122915
CREATED:20230302T155607Z
LAST-MODIFIED:20230302T155607Z
UID:7823-1679416200-1679419800@theliteracycenter-lv.org
SUMMARY:Virtual Career Networking Group Meeting: John Fugazzie Guest Speaker
DESCRIPTION:Learn to reach your goals with guest speaker\, John Fugazzie as he shares his insights on his key credential in job search as Founder of Neighbors-helping-Neighbors and his various experiences in workforce development. \n  \nJohn R. Fugazzie has become one of the country’s leading subject matter experts and leaders in leadership training\, workforce development\, community impact. Founded Neighbors-helping-Neighbors USA Inc.\, www.nhnusa.org in January 2011 and serves as Founder of this cost free\, unfunded all volunteer-led job search networking and support group.
URL:https://theliteracycenter-lv.org/event/virtual-career-networking-group-meeting-john-fugazzie-guest-speaker/
LOCATION:Virtual Class
CATEGORIES:Workforce Development
ORGANIZER;CN="The Literacy Center":MAILTO:tanthony@theliteracycenter-lv.org
END:VEVENT
BEGIN:VEVENT
DTSTART;TZID=America/New_York:20230327T123000
DTEND;TZID=America/New_York:20230327T133000
DTSTAMP:20260423T122915
CREATED:20230307T154608Z
LAST-MODIFIED:20230307T154608Z
UID:7857-1679920200-1679923800@theliteracycenter-lv.org
SUMMARY:Healthy Family Road Map with UPMC
DESCRIPTION:Join us for the Healthy Family Road Map Workshop and Learn: \n\nBuilding healthy habits with your family\nWays to be more active\nCreating healthy routines and sleep habits\nSetting goals as a family
URL:https://theliteracycenter-lv.org/event/healthy-family-road-map-with-upmc/
LOCATION:The Literacy Center\, 1132 Hamilton Street\, Allentown\, PA\, 18101\, United States
CATEGORIES:Support Services
ORGANIZER;CN="The Literacy Center":MAILTO:tanthony@theliteracycenter-lv.org
END:VEVENT
BEGIN:VEVENT
DTSTART;TZID=America/New_York:20230328T123000
DTEND;TZID=America/New_York:20230328T133000
DTSTAMP:20260423T122915
CREATED:20230302T190610Z
LAST-MODIFIED:20230302T191329Z
UID:7830-1680006600-1680010200@theliteracycenter-lv.org
SUMMARY:Virtual Maternal & Family Health Services Info Session
DESCRIPTION:Join us for an information session with Maternal & Family Health Services and learn about their programs and how to apply to receive benefits.
URL:https://theliteracycenter-lv.org/event/virtual-maternal-family-health-services-info-session/
LOCATION:Virtual Class
CATEGORIES:Support Services
ORGANIZER;CN="The Literacy Center":MAILTO:tanthony@theliteracycenter-lv.org
END:VEVENT
BEGIN:VEVENT
DTSTART;TZID=America/New_York:20230328T130000
DTEND;TZID=America/New_York:20230328T140000
DTSTAMP:20260423T122915
CREATED:20230301T181449Z
LAST-MODIFIED:20230301T182617Z
UID:7801-1680008400-1680012000@theliteracycenter-lv.org
SUMMARY:Admin Information Session 2
DESCRIPTION:Join us to learn more about the Free 9 week Administrative Professional Training Program! \nInfo Session is In-Person at The Literacy Center located at 1132 Hamilton St\, Third Floor\, Allentown
URL:https://theliteracycenter-lv.org/event/admin-information-session-2/
LOCATION:The Literacy Center\, 1132 Hamilton Street\, Allentown\, PA\, 18101\, United States
CATEGORIES:Workforce Development
ORGANIZER;CN="The Literacy Center":MAILTO:tanthony@theliteracycenter-lv.org
END:VEVENT
BEGIN:VEVENT
DTSTART;TZID=America/New_York:20230404T170000
DTEND;TZID=America/New_York:20230404T180000
DTSTAMP:20260423T122915
CREATED:20230301T181740Z
LAST-MODIFIED:20230301T181740Z
UID:7804-1680627600-1680631200@theliteracycenter-lv.org
SUMMARY:Admin Information Session 3
DESCRIPTION:Join us to learn more about the Free 9 week Administrative Professional Training Program! \nInfo Session is In-Person at The Literacy Center located at 1132 Hamilton St\, Third Floor\, Allentown
URL:https://theliteracycenter-lv.org/event/admin-information-session-3/
LOCATION:The Literacy Center\, 1132 Hamilton Street\, Allentown\, PA\, 18101\, United States
CATEGORIES:Workforce Development
ORGANIZER;CN="The Literacy Center":MAILTO:tanthony@theliteracycenter-lv.org
END:VEVENT
END:VCALENDAR