BEGIN:VCALENDAR
VERSION:2.0
PRODID:-//The Literacy Center - ECPv6.15.20//NONSGML v1.0//EN
CALSCALE:GREGORIAN
METHOD:PUBLISH
X-ORIGINAL-URL:https://theliteracycenter-lv.org
X-WR-CALDESC:Events for The Literacy Center
REFRESH-INTERVAL;VALUE=DURATION:PT1H
X-Robots-Tag:noindex
X-PUBLISHED-TTL:PT1H
BEGIN:VTIMEZONE
TZID:America/New_York
BEGIN:DAYLIGHT
TZOFFSETFROM:-0500
TZOFFSETTO:-0400
TZNAME:EDT
DTSTART:20200308T070000
END:DAYLIGHT
BEGIN:STANDARD
TZOFFSETFROM:-0400
TZOFFSETTO:-0500
TZNAME:EST
DTSTART:20201101T060000
END:STANDARD
BEGIN:DAYLIGHT
TZOFFSETFROM:-0500
TZOFFSETTO:-0400
TZNAME:EDT
DTSTART:20210314T070000
END:DAYLIGHT
BEGIN:STANDARD
TZOFFSETFROM:-0400
TZOFFSETTO:-0500
TZNAME:EST
DTSTART:20211107T060000
END:STANDARD
BEGIN:DAYLIGHT
TZOFFSETFROM:-0500
TZOFFSETTO:-0400
TZNAME:EDT
DTSTART:20220313T070000
END:DAYLIGHT
BEGIN:STANDARD
TZOFFSETFROM:-0400
TZOFFSETTO:-0500
TZNAME:EST
DTSTART:20221106T060000
END:STANDARD
END:VTIMEZONE
BEGIN:VEVENT
DTSTART;TZID=America/New_York:20210602T100000
DTEND;TZID=America/New_York:20210602T110000
DTSTAMP:20260423T060431
CREATED:20210520T151529Z
LAST-MODIFIED:20210520T151529Z
UID:2219-1622628000-1622631600@theliteracycenter-lv.org
SUMMARY:6/2 WFH Info Session
DESCRIPTION:Explore and discover the myriad of ways working from home can be a successful avenue for you\, even after a pandemic. \nGain important communication and time management skills needed in every work environment\, but especially useful for those working remotely. \n  \n*Attendance at one of the information sessions is mandatory to enroll in this free program*
URL:https://theliteracycenter-lv.org/event/6-2-wfh-info-session/
LOCATION:PA
CATEGORIES:Workforce Development
END:VEVENT
BEGIN:VEVENT
DTSTART;TZID=America/New_York:20210603T170000
DTEND;TZID=America/New_York:20210603T180000
DTSTAMP:20260423T060431
CREATED:20210520T151744Z
LAST-MODIFIED:20210520T151744Z
UID:2222-1622739600-1622743200@theliteracycenter-lv.org
SUMMARY:6/3 WFH Info Session
DESCRIPTION:Explore and discover the myriad of ways working from home can be a successful avenue for you\, even after a pandemic. \nGain important communication and time management skills needed in every work environment\, but especially useful for those working remotely. \n  \n*Attendance at one of the information sessions is mandatory to enroll in this free program*
URL:https://theliteracycenter-lv.org/event/6-3-wfh-info-session/
LOCATION:PA
CATEGORIES:Workforce Development
END:VEVENT
BEGIN:VEVENT
DTSTART;TZID=America/New_York:20210604T100000
DTEND;TZID=America/New_York:20210604T110000
DTSTAMP:20260423T060431
CREATED:20210520T151942Z
LAST-MODIFIED:20210520T182657Z
UID:2225-1622800800-1622804400@theliteracycenter-lv.org
SUMMARY:6/4 WFH Info Session
DESCRIPTION:Explore and discover the myriad of ways working from home can be a successful avenue for you\, even after a pandemic. \nGain important communication and time management skills needed in every work environment\, but especially useful for those working remotely. \n  \n*Attendance at one of the information sessions is mandatory to enroll in this free program*
URL:https://theliteracycenter-lv.org/event/6-4-wfh-info-session/
LOCATION:PA
CATEGORIES:Workforce Development
END:VEVENT
BEGIN:VEVENT
DTSTART;TZID=America/New_York:20210607T180000
DTEND;TZID=America/New_York:20210607T200000
DTSTAMP:20260423T060431
CREATED:20210423T135204Z
LAST-MODIFIED:20211013T174250Z
UID:1915-1623088800-1623096000@theliteracycenter-lv.org
SUMMARY:ESL Workshop 6/7 - 6/9
DESCRIPTION:What does this class offer?\n\n2-day Session – Monday\, June 7th and Wednesday\, June 9th\, 6 pm -8 pm\nTwo 2-hour intensive workshops focusing on one language function with an experienced ESL instructor.\nSubstantial time to practice new expressions and apply them in specific situations.\nCarefully designed materials to support step-by-step learning of the new conversation skills.\nAdditional follow-up practice packets to use after the session.\n\nWhat will you learn during this session?\n\nRespond to good or bad news using rejoinders – “So am I.”   “I’m sorry to hear that. “\nMake small talk – “The weather is nice today.”   “Have you heard about the accident on 7th Street?”\nAsk follow-up questions –  “Really?”   “No. What happened”\n\nWhat technology is needed for the workshop?\n\nReliable internet connection\nA reliable\, functioning desktop computer\, laptop\, or tablet with a keyboard\nAudio and visual capabilities (webcam/video\, speakers or headphones\, and microphone) appropriate for video conferencing\n\nPlease read the following cancellation policy carefully before registering for any The Literacy Center ESL Workshop.\nThis workshop will take place over the course of two days\, June 7th and June 9th\, 6 pm-8 pm on both days.  Refunds/discounts will not be issued if you can only make it to one 2-hour session. The Literacy Center (TLC) will issue a full refund of the class fee up to 72 hours (3 days) prior to the Workshop start time if a written request is submitted.  Refunds will not be provided within 72 hours of the Workshop start time or after the Workshop has concluded\, for any reason.  Please carefully review the technical qualifications for the class as no refund will be provided due to technical issues experienced logging in to the class or during the class.  Refunds will not be offered to those who find the workshop content too difficult to understand\, so we suggest carefully reviewing the prerequisites and/or qualifying questions prior to registering.  If TLC cancels the class\, a refund of the class fee will be provided.  All refunds will be processed through PayPal.
URL:https://theliteracycenter-lv.org/event/esl-workshop-6-7-6-9/2021-06-07/
LOCATION:PA
CATEGORIES:ESL
END:VEVENT
BEGIN:VEVENT
DTSTART;TZID=America/New_York:20210609T170000
DTEND;TZID=America/New_York:20210609T180000
DTSTAMP:20260423T060431
CREATED:20210604T151819Z
LAST-MODIFIED:20210604T151819Z
UID:2759-1623258000-1623261600@theliteracycenter-lv.org
SUMMARY:6/9 WFH Info Session
DESCRIPTION:Explore and discover the myriad of ways working from home can be a successful avenue for you\, even after a pandemic. \nGain important communication and time management skills needed in every work environment\, but especially useful for those working remotely. \n  \n*Attendance at one of the information sessions is mandatory to enroll in this free program*
URL:https://theliteracycenter-lv.org/event/6-9-wfh-info-session/
LOCATION:PA
CATEGORIES:Workforce Development
END:VEVENT
BEGIN:VEVENT
DTSTART;TZID=America/New_York:20210610T140000
DTEND;TZID=America/New_York:20210610T150000
DTSTAMP:20260423T060431
CREATED:20210608T170659Z
LAST-MODIFIED:20210608T171016Z
UID:2856-1623333600-1623337200@theliteracycenter-lv.org
SUMMARY:6/10 Career Networking Group
DESCRIPTION:Join our engaged and determined group of students and professionals as we collectively share networking tips\, practice our newly acquired skills\, and hear from Lehigh Valley’s top professionals to maximize and grow your network. \nThis group meets bi-weekly on Thursdays from 2pm-3pm.  Register for the group using the RSVP form below.  We’ll email you a link to the Zoom Meeting!
URL:https://theliteracycenter-lv.org/event/6-10-career-networking-group/
LOCATION:PA
CATEGORIES:Workforce Development
END:VEVENT
BEGIN:VEVENT
DTSTART;TZID=America/New_York:20210610T170000
DTEND;TZID=America/New_York:20210610T180000
DTSTAMP:20260423T060431
CREATED:20210604T152945Z
LAST-MODIFIED:20210604T152945Z
UID:2763-1623344400-1623348000@theliteracycenter-lv.org
SUMMARY:6/10 WFH Info Session
DESCRIPTION:Explore and discover the myriad of ways working from home can be a successful avenue for you\, even after a pandemic. \nGain important communication and time management skills needed in every work environment\, but especially useful for those working remotely. \n  \n*Attendance at one of the information sessions is mandatory to enroll in this free program*
URL:https://theliteracycenter-lv.org/event/6-10-wfh-info-session/
LOCATION:PA
CATEGORIES:Workforce Development
END:VEVENT
BEGIN:VEVENT
DTSTART;TZID=America/New_York:20210614T110000
DTEND;TZID=America/New_York:20210614T120000
DTSTAMP:20260423T060431
CREATED:20210604T153130Z
LAST-MODIFIED:20210604T153130Z
UID:2766-1623668400-1623672000@theliteracycenter-lv.org
SUMMARY:6/14 WFH Info Session
DESCRIPTION:Explore and discover the myriad of ways working from home can be a successful avenue for you\, even after a pandemic. \nGain important communication and time management skills needed in every work environment\, but especially useful for those working remotely. \n  \n*Attendance at one of the information sessions is mandatory to enroll in this free program*
URL:https://theliteracycenter-lv.org/event/6-14-wfh-info-session/
LOCATION:PA
CATEGORIES:Workforce Development
END:VEVENT
BEGIN:VEVENT
DTSTART;TZID=America/New_York:20210617T180000
DTEND;TZID=America/New_York:20210617T200000
DTSTAMP:20260423T060431
CREATED:20210512T171658Z
LAST-MODIFIED:20210512T173407Z
UID:2061-1623952800-1623960000@theliteracycenter-lv.org
SUMMARY:2021 Virtual Graduation Commencement
DESCRIPTION:
URL:https://theliteracycenter-lv.org/event/2021-virtual-graduation-commencement/
LOCATION:PA
END:VEVENT
BEGIN:VEVENT
DTSTART;TZID=America/New_York:20210624T090000
DTEND;TZID=America/New_York:20210624T110000
DTSTAMP:20260423T060431
CREATED:20210608T151702Z
LAST-MODIFIED:20210608T161255Z
UID:2840-1624525200-1624532400@theliteracycenter-lv.org
SUMMARY:June Virtual Presentation Skills Workshop
DESCRIPTION:Improve your communication and presentation skills via a virtual platform with this NEW workshop offered by TLC’s Workforce Development team! \n  \nTopics covered in the 4-hour workshop include: \n\nZoom breakout room and polling features\nSharing multimedia content (Google Slides\, Powerpoint\, YouTube\, etc.)\nPresentation tips for speaking\, using videos\, and creating digestible content\nPractice utilizing technology tools\nDeliver an effective presentation in a short amount of time\nCommunication tips for virtual setting\n\n**NOTE** \nThis is a two-day workshop – Thursday\, June 24th and Friday\, June 25th from 9am-11am
URL:https://theliteracycenter-lv.org/event/june-virtual-presentation-skills-workshop/2021-06-24/
LOCATION:PA
CATEGORIES:Workforce Development
END:VEVENT
BEGIN:VEVENT
DTSTART;TZID=America/New_York:20210707T100000
DTEND;TZID=America/New_York:20210707T110000
DTSTAMP:20260423T060431
CREATED:20210604T165234Z
LAST-MODIFIED:20210604T165234Z
UID:2778-1625652000-1625655600@theliteracycenter-lv.org
SUMMARY:7/7 WFH Info Session
DESCRIPTION:Explore and discover the myriad of ways working from home can be a successful avenue for you\, even after a pandemic. \nGain important communication and time management skills needed in every work environment\, but especially useful for those working remotely. \n  \n*Attendance at one of the information sessions is mandatory to enroll in this free program*
URL:https://theliteracycenter-lv.org/event/7-7-wfh-info-session/
LOCATION:PA
CATEGORIES:Workforce Development
END:VEVENT
BEGIN:VEVENT
DTSTART;TZID=America/New_York:20210708T140000
DTEND;TZID=America/New_York:20210708T150000
DTSTAMP:20260423T060431
CREATED:20210701T173532Z
LAST-MODIFIED:20210701T173610Z
UID:3319-1625752800-1625756400@theliteracycenter-lv.org
SUMMARY:7/8 Career Networking Group Meeting
DESCRIPTION:Join our engaged and determined group of students and professionals as we collectively share networking tips\, practice our newly acquired skills\, and hear from Lehigh Valley’s top professionals to maximize and grow your network. \nThis group meets bi-weekly on Thursdays from 2pm-3pm.  Register for the group using the RSVP form below.  We’ll email you a link to the Zoom Meeting!
URL:https://theliteracycenter-lv.org/event/7-8-career-networking-group-meeting/
LOCATION:PA
CATEGORIES:Workforce Development
ORGANIZER;CN="The Literacy Center":MAILTO:tanthony@theliteracycenter-lv.org
END:VEVENT
BEGIN:VEVENT
DTSTART;TZID=America/New_York:20210708T170000
DTEND;TZID=America/New_York:20210708T180000
DTSTAMP:20260423T060431
CREATED:20210701T154305Z
LAST-MODIFIED:20210701T160217Z
UID:3305-1625763600-1625767200@theliteracycenter-lv.org
SUMMARY:7/8 WFH Info Session
DESCRIPTION:Explore and discover the myriad of ways working from home can be a successful avenue for you\, even after a pandemic. \nGain important communication and time management skills needed in every work environment\, but especially useful for those working remotely. \n  \n*Attendance at one of the information sessions is mandatory to enroll in this free program*
URL:https://theliteracycenter-lv.org/event/7-8-wfh-info-session/
LOCATION:PA
CATEGORIES:Workforce Development
ORGANIZER;CN="The Literacy Center":MAILTO:tanthony@theliteracycenter-lv.org
END:VEVENT
BEGIN:VEVENT
DTSTART;TZID=America/New_York:20210709T100000
DTEND;TZID=America/New_York:20210709T110000
DTSTAMP:20260423T060431
CREATED:20210701T164846Z
LAST-MODIFIED:20210701T170039Z
UID:3312-1625824800-1625828400@theliteracycenter-lv.org
SUMMARY:7/9 WFH Info session
DESCRIPTION:Explore and discover the myriad of ways working from home can be a successful avenue for you\, even after a pandemic. \nGain important communication and time management skills needed in every work environment\, but especially useful for those working remotely. \n  \n*Attendance at one of the information sessions is mandatory to enroll in this free program*
URL:https://theliteracycenter-lv.org/event/7-9-wfh-info-session/
LOCATION:PA
CATEGORIES:Workforce Development
ORGANIZER;CN="The Literacy Center":MAILTO:tanthony@theliteracycenter-lv.org
END:VEVENT
BEGIN:VEVENT
DTSTART;TZID=America/New_York:20210722T140000
DTEND;TZID=America/New_York:20210722T150000
DTSTAMP:20260423T060431
CREATED:20210708T192016Z
LAST-MODIFIED:20210708T192016Z
UID:3392-1626962400-1626966000@theliteracycenter-lv.org
SUMMARY:7/22 Career Networking Group Meeting
DESCRIPTION:Join our engaged and determined group of students and professionals as we collectively share networking tips\, practice our newly acquired skills\, and hear from Lehigh Valley’s top professionals to maximize and grow your network. \nThis group meets bi-weekly on Thursdays from 2pm-3pm.  Register for the group using the RSVP form below.  We’ll email you a link to the Zoom Meeting!
URL:https://theliteracycenter-lv.org/event/7-22-career-networking-group-meeting/
LOCATION:PA
ORGANIZER;CN="The Literacy Center":MAILTO:tanthony@theliteracycenter-lv.org
END:VEVENT
BEGIN:VEVENT
DTSTART;TZID=America/New_York:20210724T083000
DTEND;TZID=America/New_York:20210724T123000
DTSTAMP:20260423T060431
CREATED:20210714T161504Z
LAST-MODIFIED:20210714T161504Z
UID:3438-1627115400-1627129800@theliteracycenter-lv.org
SUMMARY:7/24 WFH Presentation Skills Workshop
DESCRIPTION:Improve your communication and presentation skills via a virtual platform with this NEW workshop offered by TLC’s Workforce Development team! \n  \nTopics covered in the 4-hour workshop include: \n\nZoom breakout room and polling features\nSharing multimedia content (Google Slides\, PowerPoint\, YouTube\, etc.)\nPresentation tips for speaking\, using videos\, and creating digestible content\nPractice utilizing technology tools\nDeliver an effective presentation in a short amount of time\nCommunication tips for virtual setting\n\nSchedule: Saturday\, July 24th 8:30am-12:30pm
URL:https://theliteracycenter-lv.org/event/7-24-wfh-presentation-skills-workshop/
LOCATION:Virtual Class
ORGANIZER;CN="The Literacy Center":MAILTO:tanthony@theliteracycenter-lv.org
END:VEVENT
BEGIN:VEVENT
DTSTART;TZID=America/New_York:20210728T173000
DTEND;TZID=America/New_York:20210728T180000
DTSTAMP:20260423T060431
CREATED:20210713T201257Z
LAST-MODIFIED:20210713T202104Z
UID:3420-1627493400-1627495200@theliteracycenter-lv.org
SUMMARY:7/28 WFH Info Session
DESCRIPTION:Explore and discover the myriad of ways working from home can be a successful avenue for you\, even after a pandemic. \nGain important communication and time management skills needed in every work environment\, but especially useful for those working remotely. \n  \n*Attendance at one of the information sessions is mandatory to enroll in this free program*
URL:https://theliteracycenter-lv.org/event/7-28-wfh-info-session/
LOCATION:Virtual Class
CATEGORIES:Workforce Development
ORGANIZER;CN="The Literacy Center":MAILTO:tanthony@theliteracycenter-lv.org
END:VEVENT
BEGIN:VEVENT
DTSTART;TZID=America/New_York:20210729T100000
DTEND;TZID=America/New_York:20210729T110000
DTSTAMP:20260423T060431
CREATED:20210713T203238Z
LAST-MODIFIED:20210714T153257Z
UID:3427-1627552800-1627556400@theliteracycenter-lv.org
SUMMARY:7/29 WFH Info Session
DESCRIPTION:Explore and discover the myriad of ways working from home can be a successful avenue for you\, even after a pandemic. \nGain important communication and time management skills needed in every work environment\, but especially useful for those working remotely. \n  \n*Attendance at one of the information sessions is mandatory to enroll in this free program*
URL:https://theliteracycenter-lv.org/event/7-29-wfh-info-session/
LOCATION:Virtual Class
CATEGORIES:Workforce Development
ORGANIZER;CN="The Literacy Center":MAILTO:tanthony@theliteracycenter-lv.org
END:VEVENT
BEGIN:VEVENT
DTSTART;TZID=America/New_York:20210730T100000
DTEND;TZID=America/New_York:20210730T110000
DTSTAMP:20260423T060431
CREATED:20210713T203458Z
LAST-MODIFIED:20210714T153125Z
UID:3431-1627639200-1627642800@theliteracycenter-lv.org
SUMMARY:7/30 WFH Info Session
DESCRIPTION:Explore and discover the myriad of ways working from home can be a successful avenue for you\, even after a pandemic. \nGain important communication and time management skills needed in every work environment\, but especially useful for those working remotely. \n  \n*Attendance at one of the information sessions is mandatory to enroll in this free program*
URL:https://theliteracycenter-lv.org/event/7-30-wfh-info-session/
LOCATION:Virtual Class
CATEGORIES:Workforce Development
ORGANIZER;CN="The Literacy Center":MAILTO:tanthony@theliteracycenter-lv.org
END:VEVENT
BEGIN:VEVENT
DTSTART;TZID=America/New_York:20210805T140000
DTEND;TZID=America/New_York:20210805T150000
DTSTAMP:20260423T060431
CREATED:20210708T193530Z
LAST-MODIFIED:20210708T193849Z
UID:3397-1628172000-1628175600@theliteracycenter-lv.org
SUMMARY:8/5 Career Networking Group Meeting
DESCRIPTION:Join our engaged and determined group of students and professionals as we collectively share networking tips\, practice our newly acquired skills\, and hear from Lehigh Valley’s top professionals to maximize and grow your network. \nThis group meets bi-weekly on Thursdays from 2pm-3pm.  Register for the group using the RSVP form below.  We’ll email you a link to the Zoom Meeting!
URL:https://theliteracycenter-lv.org/event/8-5-career-networking-group-meeting/
LOCATION:PA
CATEGORIES:Workforce Development
ORGANIZER;CN="The Literacy Center":MAILTO:tanthony@theliteracycenter-lv.org
END:VEVENT
BEGIN:VEVENT
DTSTART;TZID=America/New_York:20210811T170000
DTEND;TZID=America/New_York:20210811T180000
DTSTAMP:20260423T060431
CREATED:20210716T174540Z
LAST-MODIFIED:20210716T174540Z
UID:3458-1628701200-1628704800@theliteracycenter-lv.org
SUMMARY:8/11 WFH Info Session
DESCRIPTION:Explore and discover the myriad of ways working from home can be a successful avenue for you\, even after a pandemic. \nGain important communication and time management skills needed in every work environment\, but especially useful for those working remotely. \n  \n*Attendance at one of the information sessions is mandatory to enroll in this free program*
URL:https://theliteracycenter-lv.org/event/8-11-wfh-info-session/
LOCATION:Virtual Class
CATEGORIES:Workforce Development
ORGANIZER;CN="The Literacy Center":MAILTO:tanthony@theliteracycenter-lv.org
END:VEVENT
BEGIN:VEVENT
DTSTART;TZID=America/New_York:20210812T100000
DTEND;TZID=America/New_York:20210812T110000
DTSTAMP:20260423T060431
CREATED:20210716T175600Z
LAST-MODIFIED:20210716T175600Z
UID:3464-1628762400-1628766000@theliteracycenter-lv.org
SUMMARY:8/12 WFH Info Session
DESCRIPTION:Explore and discover the myriad of ways working from home can be a successful avenue for you\, even after a pandemic. \nGain important communication and time management skills needed in every work environment\, but especially useful for those working remotely. \n  \n*Attendance at one of the information sessions is mandatory to enroll in this free program*
URL:https://theliteracycenter-lv.org/event/8-12-wfh-info-session/
LOCATION:Virtual Class
CATEGORIES:Workforce Development
ORGANIZER;CN="The Literacy Center":MAILTO:tanthony@theliteracycenter-lv.org
END:VEVENT
BEGIN:VEVENT
DTSTART;TZID=America/New_York:20210813T100000
DTEND;TZID=America/New_York:20210813T110000
DTSTAMP:20260423T060431
CREATED:20210716T175917Z
LAST-MODIFIED:20210716T175917Z
UID:3467-1628848800-1628852400@theliteracycenter-lv.org
SUMMARY:8/13 WFH Info Session
DESCRIPTION:Explore and discover the myriad of ways working from home can be a successful avenue for you\, even after a pandemic. \nGain important communication and time management skills needed in every work environment\, but especially useful for those working remotely. \n  \n*Attendance at one of the information sessions is mandatory to enroll in this free program*
URL:https://theliteracycenter-lv.org/event/8-13-wfh-info-session/
LOCATION:Virtual Class
CATEGORIES:Workforce Development
ORGANIZER;CN="The Literacy Center":MAILTO:tanthony@theliteracycenter-lv.org
END:VEVENT
BEGIN:VEVENT
DTSTART;TZID=America/New_York:20210814T083000
DTEND;TZID=America/New_York:20210814T123000
DTSTAMP:20260423T060431
CREATED:20210716T180507Z
LAST-MODIFIED:20210716T180507Z
UID:3472-1628929800-1628944200@theliteracycenter-lv.org
SUMMARY:Work From Home (WFH) Presentation Skills Workshop
DESCRIPTION:Improve your communication and presentation skills via a virtual platform with this NEW workshop offered by TLC’s Workforce Development team! \n  \nTopics covered in the 4-hour workshop include: \n\nZoom breakout room and polling features\nSharing multimedia content (Google Slides\, PowerPoint\, YouTube\, etc.)\nPresentation tips for speaking\, using videos\, and creating digestible content\nPractice utilizing technology tools\nDeliver an effective presentation in a short amount of time\nCommunication tips for virtual setting\n\nSchedule: Saturday\, August 14th 8:30am-12:30pm
URL:https://theliteracycenter-lv.org/event/work-from-home-wfh-presentation-skills-workshop/
LOCATION:Virtual Class
CATEGORIES:Workforce Development
ORGANIZER;CN="The Literacy Center":MAILTO:tanthony@theliteracycenter-lv.org
END:VEVENT
BEGIN:VEVENT
DTSTART;TZID=America/New_York:20210818T180000
DTEND;TZID=America/New_York:20210818T190000
DTSTAMP:20260423T060431
CREATED:20210716T173934Z
LAST-MODIFIED:20210716T173934Z
UID:3455-1629309600-1629313200@theliteracycenter-lv.org
SUMMARY:Spot the Signs: Turning Point Parent Event
DESCRIPTION:Calling all parents! \nLearn what to watch for and how to keep your teen safe from dating violence as they go back to in-person learning this school year. Join us for an interactive online presentation from Turning Point Lehigh Valley.
URL:https://theliteracycenter-lv.org/event/spot-the-signs-turning-point-parent-event/
LOCATION:Virtual Class
CATEGORIES:Workforce Development
ORGANIZER;CN="The Literacy Center":MAILTO:tanthony@theliteracycenter-lv.org
END:VEVENT
BEGIN:VEVENT
DTSTART;TZID=America/New_York:20210819T140000
DTEND;TZID=America/New_York:20210819T150000
DTSTAMP:20260423T060431
CREATED:20210810T154815Z
LAST-MODIFIED:20210810T154815Z
UID:3647-1629381600-1629385200@theliteracycenter-lv.org
SUMMARY:8/19 Career Networking Group
DESCRIPTION:Join our engaged and determined group of students and professionals as we collectively share networking tips\, practice our newly acquired skills\, and hear from Lehigh Valley’s top professionals to maximize and grow your network. \nThis group meets bi-weekly on Thursdays from 2pm-3pm.  Register for the group using the RSVP form below.  We’ll email you a link to the Zoom Meeting!
URL:https://theliteracycenter-lv.org/event/8-19-career-networking-group/
LOCATION:Virtual Class
CATEGORIES:Workforce Development
ORGANIZER;CN="The Literacy Center":MAILTO:tanthony@theliteracycenter-lv.org
END:VEVENT
BEGIN:VEVENT
DTSTART;TZID=America/New_York:20210824T173000
DTEND;TZID=America/New_York:20210824T183000
DTSTAMP:20260423T060431
CREATED:20210806T173435Z
LAST-MODIFIED:20210818T170239Z
UID:3603-1629826200-1629829800@theliteracycenter-lv.org
SUMMARY:Back to School Event: Parent Toolkit
DESCRIPTION:Come to this FREE\, Bilingual event and learn strategies and helpful tips to help your child readjust to in-person learning and have a great school year! \n 
URL:https://theliteracycenter-lv.org/event/back-to-school-event-parent-toolkit/
LOCATION:Virtual Class
CATEGORIES:Workforce Development
ORGANIZER;CN="The Literacy Center":MAILTO:tanthony@theliteracycenter-lv.org
END:VEVENT
BEGIN:VEVENT
DTSTART;TZID=America/New_York:20210902T140000
DTEND;TZID=America/New_York:20210902T150000
DTSTAMP:20260423T060431
CREATED:20210810T201022Z
LAST-MODIFIED:20210830T141246Z
UID:3657-1630591200-1630594800@theliteracycenter-lv.org
SUMMARY:9/2 Career Networking Group Meeting
DESCRIPTION:Join our engaged and determined group of students and professionals as we collectively share networking tips\, practice our newly acquired skills\, and hear from Lehigh Valley’s top professionals to maximize and grow your network. \nThis group meets bi-weekly on Thursdays from 2pm-3pm.  Register for the group using the RSVP form below.  We’ll email you a link to the Zoom Meeting!
URL:https://theliteracycenter-lv.org/event/9-2-career-networking-group-meeting/
LOCATION:Virtual Class
CATEGORIES:Workforce Development
ORGANIZER;CN="The Literacy Center":MAILTO:tanthony@theliteracycenter-lv.org
END:VEVENT
BEGIN:VEVENT
DTSTART;TZID=America/New_York:20210915T100000
DTEND;TZID=America/New_York:20210915T110000
DTSTAMP:20260423T060431
CREATED:20210901T191331Z
LAST-MODIFIED:20210901T191331Z
UID:3869-1631700000-1631703600@theliteracycenter-lv.org
SUMMARY:9/15 Admin Info Session
DESCRIPTION:Join us for a 45 minute information session to learn more about The Literacy Center’s popular Administrative Profession Training program. \n  \nThe Admin Program is an 8-week job training program to prepare individuals for administrative office positions.  These positions will include Administrative Assistants\, Office Managers\, Coordinators\, Executive Assistants\, Receptionists\, Office Assistants\, and other support positions with local businesses\, organizations\, and agencies.  The program provides six weeks of instruction for the unemployed\, underemployed\, and career changers. \nClasses will meet Monday through Friday\, 9 am -2 pm. \nPrerequisites for the program include: HS Diploma or GED\, background check\, resume\, eligibility to work in the U.S.\, English language proficiency\, and basic knowledge of computers and typing skills.
URL:https://theliteracycenter-lv.org/event/9-15-admin-info-session/
LOCATION:Virtual Class
CATEGORIES:Workforce Development
ORGANIZER;CN="The Literacy Center":MAILTO:tanthony@theliteracycenter-lv.org
END:VEVENT
BEGIN:VEVENT
DTSTART;TZID=America/New_York:20210915T180000
DTEND;TZID=America/New_York:20210915T190000
DTSTAMP:20260423T060431
CREATED:20210901T205705Z
LAST-MODIFIED:20210901T205705Z
UID:3882-1631728800-1631732400@theliteracycenter-lv.org
SUMMARY:9/15 Immigration Q&A
DESCRIPTION:Join us The Literacy Center hosts Lehigh Immigration Law for a Virtual Q&A. Have your immigration questions answered by the experts!
URL:https://theliteracycenter-lv.org/event/9-15-immigration-qa/
LOCATION:Virtual Class
CATEGORIES:Workforce Development
ORGANIZER;CN="The Literacy Center":MAILTO:tanthony@theliteracycenter-lv.org
END:VEVENT
END:VCALENDAR