BEGIN:VCALENDAR
VERSION:2.0
PRODID:-//The Literacy Center - ECPv6.15.20//NONSGML v1.0//EN
CALSCALE:GREGORIAN
METHOD:PUBLISH
X-WR-CALNAME:The Literacy Center
X-ORIGINAL-URL:https://theliteracycenter-lv.org
X-WR-CALDESC:Events for The Literacy Center
REFRESH-INTERVAL;VALUE=DURATION:PT1H
X-Robots-Tag:noindex
X-PUBLISHED-TTL:PT1H
BEGIN:VTIMEZONE
TZID:America/New_York
BEGIN:DAYLIGHT
TZOFFSETFROM:-0500
TZOFFSETTO:-0400
TZNAME:EDT
DTSTART:20200308T070000
END:DAYLIGHT
BEGIN:STANDARD
TZOFFSETFROM:-0400
TZOFFSETTO:-0500
TZNAME:EST
DTSTART:20201101T060000
END:STANDARD
BEGIN:DAYLIGHT
TZOFFSETFROM:-0500
TZOFFSETTO:-0400
TZNAME:EDT
DTSTART:20210314T070000
END:DAYLIGHT
BEGIN:STANDARD
TZOFFSETFROM:-0400
TZOFFSETTO:-0500
TZNAME:EST
DTSTART:20211107T060000
END:STANDARD
BEGIN:DAYLIGHT
TZOFFSETFROM:-0500
TZOFFSETTO:-0400
TZNAME:EDT
DTSTART:20220313T070000
END:DAYLIGHT
BEGIN:STANDARD
TZOFFSETFROM:-0400
TZOFFSETTO:-0500
TZNAME:EST
DTSTART:20221106T060000
END:STANDARD
END:VTIMEZONE
BEGIN:VEVENT
DTSTART;TZID=America/New_York:20210525T173000
DTEND;TZID=America/New_York:20210525T183000
DTSTAMP:20260423T000217
CREATED:20210520T152831Z
LAST-MODIFIED:20210520T152831Z
UID:2229-1621963800-1621967400@theliteracycenter-lv.org
SUMMARY:5/25 Job Fair Ready Workshop
DESCRIPTION:Prepare for the virtual job fair in this workshop\, specifically created to give you the essential tools you need to make an impression.  Topics covered include elevator speeches\, resume basics\, interview preparation\, and dressing for job fairs.
URL:https://theliteracycenter-lv.org/event/5-25-job-fair-ready-workshop/
LOCATION:PA
CATEGORIES:Workforce Development
END:VEVENT
END:VCALENDAR